Package: curatedAdipoRNA Version: 1.27.0 Maintainer: Mahmoud Ahmed MaintainerEmail: mahmoud.s.fahmy at students.kasralainy.edu.eg git_url: https://git.bioconductor.org/packages/curatedAdipoRNA git_branch: devel git_last_commit: 3a5ad7f git_last_commit_date: 2025-10-29 10:01:23 -0500 (Wed, 29 Oct 2025)