Package: curatedAdipoArray Version: 1.23.0 Command: /home/biocbuild/bbs-3.23-bioc/R/bin/R CMD check --install=check:curatedAdipoArray.install-out.txt --library=/home/biocbuild/bbs-3.23-bioc/R/site-library --timings curatedAdipoArray_1.23.0.tar.gz StartedAt: 2025-11-06 12:08:58 -0500 (Thu, 06 Nov 2025) EndedAt: 2025-11-06 12:09:24 -0500 (Thu, 06 Nov 2025) EllapsedTime: 26.3 seconds RetCode: 0 Status: OK CheckDir: curatedAdipoArray.Rcheck Warnings: 0