Package: crisprScoreData Version: 1.15.0 Maintainer: Jean-Philippe Fortin MaintainerEmail: fortin946 at gmail.com git_url: https://git.bioconductor.org/packages/crisprScoreData git_branch: devel git_last_commit: c1ddb7e git_last_commit_date: 2025-10-29 10:04:44 -0500 (Wed, 29 Oct 2025)