Package: cfToolsData Version: 1.9.0 Command: /home/biocbuild/bbs-3.23-bioc/R/bin/R CMD check --install=check:cfToolsData.install-out.txt --library=/home/biocbuild/bbs-3.23-bioc/R/site-library --timings cfToolsData_1.9.0.tar.gz StartedAt: 2025-11-11 12:05:23 -0500 (Tue, 11 Nov 2025) EndedAt: 2025-11-11 12:07:35 -0500 (Tue, 11 Nov 2025) EllapsedTime: 131.1 seconds RetCode: 0 Status: OK CheckDir: cfToolsData.Rcheck Warnings: 0