Package: celldex Version: 1.21.0 Command: /home/biocbuild/bbs-3.23-bioc/R/bin/R CMD INSTALL celldex StartedAt: 2025-11-06 11:02:48 -0500 (Thu, 06 Nov 2025) EndedAt: 2025-11-06 11:03:19 -0500 (Thu, 06 Nov 2025) EllapsedTime: 31.6 seconds RetCode: 0 Status: OK