Package: celldex Version: 1.21.0 Maintainer: Aaron Lun MaintainerEmail: infinite.monkeys.with.keyboards at gmail.com git_url: https://git.bioconductor.org/packages/celldex git_branch: devel git_last_commit: 18f38f4 git_last_commit_date: 2025-10-29 10:02:39 -0500 (Wed, 29 Oct 2025)