Package: bugphyzz Version: 1.5.0 Maintainer: Samuel Gamboa MaintainerEmail: Samuel.Gamboa.Tuz at gmail.com git_url: https://git.bioconductor.org/packages/bugphyzz git_branch: devel git_last_commit: b658011 git_last_commit_date: 2025-10-29 10:06:34 -0500 (Wed, 29 Oct 2025)