Package: bsseqData Version: 0.49.0 Command: /home/biocbuild/bbs-3.23-bioc/R/bin/R CMD check --install=check:bsseqData.install-out.txt --library=/home/biocbuild/bbs-3.23-bioc/R/site-library --timings bsseqData_0.49.0.tar.gz StartedAt: 2025-11-27 12:03:51 -0500 (Thu, 27 Nov 2025) EndedAt: 2025-11-27 12:06:33 -0500 (Thu, 27 Nov 2025) EllapsedTime: 161.4 seconds RetCode: 0 Status: WARNINGS CheckDir: bsseqData.Rcheck Warnings: 1