Package: bronchialIL13 Version: 1.49.0 Command: /home/biocbuild/bbs-3.23-bioc/R/bin/R CMD INSTALL bronchialIL13 StartedAt: 2025-11-06 10:56:15 -0500 (Thu, 06 Nov 2025) EndedAt: 2025-11-06 10:56:21 -0500 (Thu, 06 Nov 2025) EllapsedTime: 5.7 seconds RetCode: 0 Status: OK