Package: bronchialIL13 Version: 1.49.0 Command: /home/biocbuild/bbs-3.23-bioc/R/bin/R CMD build --keep-empty-dirs --no-resave-data bronchialIL13 StartedAt: 2025-11-06 11:08:42 -0500 (Thu, 06 Nov 2025) EndedAt: 2025-11-06 11:08:49 -0500 (Thu, 06 Nov 2025) EllapsedTime: 6.7 seconds RetCode: 0 Status: OK PackageFile: bronchialIL13_1.49.0.tar.gz PackageFileSize: 69.13 MiB