Package: bronchialIL13 Version: 1.49.0 Maintainer: Vince Carey MaintainerEmail: stvjc at channing.harvard.edu git_url: https://git.bioconductor.org/packages/bronchialIL13 git_branch: devel git_last_commit: 0882d9b git_last_commit_date: 2025-10-29 09:23:20 -0500 (Wed, 29 Oct 2025)