Package: bodymapRat Version: 1.27.0 Command: /home/biocbuild/bbs-3.23-bioc/R/bin/R CMD build --keep-empty-dirs --no-resave-data bodymapRat StartedAt: 2025-11-06 11:08:14 -0500 (Thu, 06 Nov 2025) EndedAt: 2025-11-06 11:08:57 -0500 (Thu, 06 Nov 2025) EllapsedTime: 42.5 seconds RetCode: 0 Status: OK PackageFile: bodymapRat_1.27.0.tar.gz PackageFileSize: 299.1 KiB