Package: bodymapRat Version: 1.27.0 Maintainer: Stephanie Hicks MaintainerEmail: shicks19 at jhu.edu git_url: https://git.bioconductor.org/packages/bodymapRat git_branch: devel git_last_commit: e7e8778 git_last_commit_date: 2025-10-29 10:01:26 -0500 (Wed, 29 Oct 2025)