Package: blimaTestingData Version: 1.31.0 Command: /home/biocbuild/bbs-3.23-bioc/R/bin/R CMD check --install=check:blimaTestingData.install-out.txt --library=/home/biocbuild/bbs-3.23-bioc/R/site-library --timings blimaTestingData_1.31.0.tar.gz StartedAt: 2025-11-06 12:02:02 -0500 (Thu, 06 Nov 2025) EndedAt: 2025-11-06 12:03:29 -0500 (Thu, 06 Nov 2025) EllapsedTime: 86.7 seconds RetCode: 0 Status: OK CheckDir: blimaTestingData.Rcheck Warnings: 0