Package: biotmleData Version: 1.35.0 Maintainer: Nima Hejazi MaintainerEmail: nhejazi at berkeley.edu git_url: https://git.bioconductor.org/packages/biotmleData git_branch: devel git_last_commit: 496cd46 git_last_commit_date: 2025-10-29 09:59:17 -0500 (Wed, 29 Oct 2025)