Package: beta7 Version: 1.49.0 Maintainer: Jean Yang MaintainerEmail: jean at biostat.ucsf.edu git_url: https://git.bioconductor.org/packages/beta7 git_branch: devel git_last_commit: ffae8e4 git_last_commit_date: 2025-10-29 09:23:18 -0500 (Wed, 29 Oct 2025)