Package: bcellViper Version: 1.47.0 Maintainer: Mariano Javier Alvarez MaintainerEmail: malvarez at c2b2.columbia.edu git_url: https://git.bioconductor.org/packages/bcellViper git_branch: devel git_last_commit: 2a25b56 git_last_commit_date: 2025-10-29 09:54:52 -0500 (Wed, 29 Oct 2025)