Package: antiProfilesData Version: 1.47.0 Maintainer: Hector Corrada Bravo MaintainerEmail: hcorrada at gmail.com git_url: https://git.bioconductor.org/packages/antiProfilesData git_branch: devel git_last_commit: 8c5417e git_last_commit_date: 2025-10-29 09:53:14 -0500 (Wed, 29 Oct 2025)