Package: affydata Version: 1.59.0 Command: /home/biocbuild/bbs-3.23-bioc/R/bin/R CMD build --keep-empty-dirs --no-resave-data affydata StartedAt: 2025-11-06 11:07:31 -0500 (Thu, 06 Nov 2025) EndedAt: 2025-11-06 11:07:55 -0500 (Thu, 06 Nov 2025) EllapsedTime: 24.4 seconds RetCode: 0 Status: OK PackageFile: affydata_1.59.0.tar.gz PackageFileSize: 12.21 MiB