Package: affydata Version: 1.59.0 Maintainer: Robert D Shear MaintainerEmail: rshear at ds.dfci.harvard.edu git_url: https://git.bioconductor.org/packages/affydata git_branch: devel git_last_commit: 760415f git_last_commit_date: 2025-10-29 09:23:07 -0500 (Wed, 29 Oct 2025)