Package: adductData Version: 1.27.0 Maintainer: Josie Hayes MaintainerEmail: jlhayes1982 at gmail.com git_url: https://git.bioconductor.org/packages/adductData git_branch: devel git_last_commit: 83b007b git_last_commit_date: 2025-10-29 10:01:12 -0500 (Wed, 29 Oct 2025)