Package: WeberDivechaLCdata Version: 1.13.0 Maintainer: Lukas M. Weber MaintainerEmail: lmweb012 at gmail.com git_url: https://git.bioconductor.org/packages/WeberDivechaLCdata git_branch: devel git_last_commit: 04200a2 git_last_commit_date: 2025-10-29 10:05:11 -0500 (Wed, 29 Oct 2025)