Package: WGSmapp Version: 1.23.0 Maintainer: Rujin Wang MaintainerEmail: rujin at email.unc.edu git_url: https://git.bioconductor.org/packages/WGSmapp git_branch: devel git_last_commit: 7dcf161 git_last_commit_date: 2025-10-29 10:02:14 -0500 (Wed, 29 Oct 2025)