Package: WES.1KG.WUGSC Version: 1.43.0 Command: /home/biocbuild/bbs-3.23-bioc/R/bin/R CMD INSTALL WES.1KG.WUGSC StartedAt: 2025-11-06 10:55:57 -0500 (Thu, 06 Nov 2025) EndedAt: 2025-11-06 10:56:03 -0500 (Thu, 06 Nov 2025) EllapsedTime: 6.1 seconds RetCode: 0 Status: OK