Package: TumourMethData Version: 1.9.0 Maintainer: Richard Heery MaintainerEmail: richardheery at gmail.com git_url: https://git.bioconductor.org/packages/TumourMethData git_branch: devel git_last_commit: c48a4f1 git_last_commit_date: 2025-10-29 10:05:57 -0500 (Wed, 29 Oct 2025)