Package: TargetScoreData Version: 1.47.0 Command: /home/biocbuild/bbs-3.23-bioc/R/bin/R CMD check --install=check:TargetScoreData.install-out.txt --library=/home/biocbuild/bbs-3.23-bioc/R/site-library --timings TargetScoreData_1.47.0.tar.gz StartedAt: 2025-11-06 13:04:43 -0500 (Thu, 06 Nov 2025) EndedAt: 2025-11-06 13:05:28 -0500 (Thu, 06 Nov 2025) EllapsedTime: 44.9 seconds RetCode: 0 Status: OK CheckDir: TargetScoreData.Rcheck Warnings: 0