Package: TabulaMurisData Version: 1.29.0 Command: /home/biocbuild/bbs-3.23-bioc/R/bin/R CMD build --keep-empty-dirs --no-resave-data TabulaMurisData StartedAt: 2025-11-06 11:43:42 -0500 (Thu, 06 Nov 2025) EndedAt: 2025-11-06 11:44:32 -0500 (Thu, 06 Nov 2025) EllapsedTime: 50.1 seconds RetCode: 0 Status: OK PackageFile: TabulaMurisData_1.29.0.tar.gz PackageFileSize: 220 KiB