Package: TabulaMurisData Version: 1.29.0 Maintainer: Charlotte Soneson MaintainerEmail: charlottesoneson at gmail.com git_url: https://git.bioconductor.org/packages/TabulaMurisData git_branch: devel git_last_commit: 7e20152 git_last_commit_date: 2025-10-29 10:00:42 -0500 (Wed, 29 Oct 2025)