Package: TMExplorer Version: 1.21.0 Command: /home/biocbuild/bbs-3.23-bioc/R/bin/R CMD INSTALL TMExplorer StartedAt: 2025-11-06 10:59:43 -0500 (Thu, 06 Nov 2025) EndedAt: 2025-11-06 11:00:09 -0500 (Thu, 06 Nov 2025) EllapsedTime: 25.8 seconds RetCode: 0 Status: OK