Package: TMExplorer Version: 1.21.0 Maintainer: Erik Christensen MaintainerEmail: echris3 at uwo.ca git_url: https://git.bioconductor.org/packages/TMExplorer git_branch: devel git_last_commit: 717f86a git_last_commit_date: 2025-10-29 10:02:53 -0500 (Wed, 29 Oct 2025)