Package: TENxVisiumData Version: 1.19.0 Maintainer: Helena L. Crowell MaintainerEmail: helena at crowell.eu git_url: https://git.bioconductor.org/packages/TENxVisiumData git_branch: devel git_last_commit: 7e13cec git_last_commit_date: 2025-10-29 10:03:49 -0500 (Wed, 29 Oct 2025)