Package: TENxPBMCData Version: 1.29.0 Command: /home/biocbuild/bbs-3.23-bioc/R/bin/R CMD build --keep-empty-dirs --no-resave-data TENxPBMCData StartedAt: 2025-11-06 11:45:12 -0500 (Thu, 06 Nov 2025) EndedAt: 2025-11-06 11:46:04 -0500 (Thu, 06 Nov 2025) EllapsedTime: 52.6 seconds RetCode: 0 Status: OK PackageFile: TENxPBMCData_1.29.0.tar.gz PackageFileSize: 299.6 KiB