Package: TCGAbiolinksGUI.data Version: 1.31.0 Maintainer: Tiago Chedraoui Silva MaintainerEmail: tiagochst at gmail.com git_url: https://git.bioconductor.org/packages/TCGAbiolinksGUI.data git_branch: devel git_last_commit: e7aa3af git_last_commit_date: 2025-10-29 09:59:40 -0500 (Wed, 29 Oct 2025)