Package: TCGAMethylation450k Version: 1.47.0 Maintainer: Sean Davis MaintainerEmail: sdavis2 at mail.nih.gov git_url: https://git.bioconductor.org/packages/TCGAMethylation450k git_branch: devel git_last_commit: 284c80f git_last_commit_date: 2025-10-29 09:32:51 -0500 (Wed, 29 Oct 2025)