Package: SubcellularSpatialData Version: 1.7.0 Command: /home/biocbuild/bbs-3.23-bioc/R/bin/R CMD build --keep-empty-dirs --no-resave-data SubcellularSpatialData StartedAt: 2025-11-06 11:43:19 -0500 (Thu, 06 Nov 2025) EndedAt: 2025-11-06 11:44:23 -0500 (Thu, 06 Nov 2025) EllapsedTime: 64.7 seconds RetCode: 0 Status: OK PackageFile: SubcellularSpatialData_1.7.0.tar.gz PackageFileSize: 2.311 MiB