Package: SpikeIn Version: 1.53.0 Command: /home/biocbuild/bbs-3.23-bioc/R/bin/R CMD build --keep-empty-dirs --no-resave-data SpikeIn StartedAt: 2025-11-06 11:43:07 -0500 (Thu, 06 Nov 2025) EndedAt: 2025-11-06 11:43:18 -0500 (Thu, 06 Nov 2025) EllapsedTime: 11.5 seconds RetCode: 0 Status: OK PackageFile: SpikeIn_1.53.0.tar.gz PackageFileSize: 63.05 MiB