Package: SpikeIn Version: 1.53.0 Maintainer: Robert D Shear MaintainerEmail: rshear at ds.dfci.harvard.edu git_url: https://git.bioconductor.org/packages/SpikeIn git_branch: devel git_last_commit: c8a5cb8 git_last_commit_date: 2025-10-29 09:30:36 -0500 (Wed, 29 Oct 2025)