Package: SomaticCancerAlterations Version: 1.47.0 Maintainer: Julian Gehring MaintainerEmail: jg-bioc at gmx.com git_url: https://git.bioconductor.org/packages/SomaticCancerAlterations git_branch: devel git_last_commit: b8d87a7 git_last_commit_date: 2025-10-29 09:54:06 -0500 (Wed, 29 Oct 2025)