Package: SomatiCAData Version: 1.49.0 Maintainer: Mengjie Chen MaintainerEmail: mengjie.chen at yale.edu git_url: https://git.bioconductor.org/packages/SomatiCAData git_branch: devel git_last_commit: ae5f18c git_last_commit_date: 2025-10-29 09:52:50 -0500 (Wed, 29 Oct 2025)