Package: SingleMoleculeFootprintingData Version: 1.19.0 Command: /home/biocbuild/bbs-3.23-bioc/R/bin/R CMD build --keep-empty-dirs --no-resave-data SingleMoleculeFootprintingData StartedAt: 2025-11-11 11:43:00 -0500 (Tue, 11 Nov 2025) EndedAt: 2025-11-11 11:43:17 -0500 (Tue, 11 Nov 2025) EllapsedTime: 17.4 seconds RetCode: 0 Status: OK PackageFile: SingleMoleculeFootprintingData_1.19.0.tar.gz PackageFileSize: 20.08 KiB