Package: Single.mTEC.Transcriptomes Version: 1.39.0 Command: /home/biocbuild/bbs-3.23-bioc/R/bin/R CMD check --install=check:Single.mTEC.Transcriptomes.install-out.txt --library=/home/biocbuild/bbs-3.23-bioc/R/site-library --timings Single.mTEC.Transcriptomes_1.39.0.tar.gz StartedAt: 2025-11-06 13:00:18 -0500 (Thu, 06 Nov 2025) EndedAt: 2025-11-06 13:08:52 -0500 (Thu, 06 Nov 2025) EllapsedTime: 513.8 seconds RetCode: 0 Status: OK CheckDir: Single.mTEC.Transcriptomes.Rcheck Warnings: 0