Package: SimBenchData Version: 1.19.0 Command: /home/biocbuild/bbs-3.23-bioc/R/bin/R CMD check --install=check:SimBenchData.install-out.txt --library=/home/biocbuild/bbs-3.23-bioc/R/site-library --timings SimBenchData_1.19.0.tar.gz StartedAt: 2025-11-06 13:00:00 -0500 (Thu, 06 Nov 2025) EndedAt: 2025-11-06 13:01:04 -0500 (Thu, 06 Nov 2025) EllapsedTime: 64.3 seconds RetCode: 0 Status: OK CheckDir: SimBenchData.Rcheck Warnings: 0