Package: SVM2CRMdata Version: 1.43.0 Maintainer: Guidantonio Malagoli Tagliazucchi MaintainerEmail: guidantonio.malagolitagliazucchi at unimore.it git_url: https://git.bioconductor.org/packages/SVM2CRMdata git_branch: devel git_last_commit: 4dcfb73 git_last_commit_date: 2025-10-29 09:56:22 -0500 (Wed, 29 Oct 2025)