Package: SNPhoodData Version: 1.41.0 Command: /home/biocbuild/bbs-3.23-bioc/R/bin/R CMD INSTALL SNPhoodData StartedAt: 2025-11-06 10:55:35 -0500 (Thu, 06 Nov 2025) EndedAt: 2025-11-06 10:55:38 -0500 (Thu, 06 Nov 2025) EllapsedTime: 2.7 seconds RetCode: 0 Status: OK