Package: SNPhoodData Version: 1.41.0 Maintainer: Christian Arnold MaintainerEmail: christian.arnold at embl.de git_url: https://git.bioconductor.org/packages/SNPhoodData git_branch: devel git_last_commit: 0a680bd git_last_commit_date: 2025-10-29 09:57:10 -0500 (Wed, 29 Oct 2025)