Package: SNAGEEdata Version: 1.47.0 Command: /home/biocbuild/bbs-3.23-bioc/R/bin/R CMD INSTALL SNAGEEdata StartedAt: 2025-11-06 10:57:45 -0500 (Thu, 06 Nov 2025) EndedAt: 2025-11-06 10:57:47 -0500 (Thu, 06 Nov 2025) EllapsedTime: 2.2 seconds RetCode: 0 Status: OK