Package: SNAGEEdata Version: 1.47.0 Maintainer: David Venet MaintainerEmail: davenet at ulb.ac.be git_url: https://git.bioconductor.org/packages/SNAGEEdata git_branch: devel git_last_commit: 95d529e git_last_commit_date: 2025-10-29 09:33:40 -0500 (Wed, 29 Oct 2025)