Package: SNAData Version: 1.57.0 Command: /home/biocbuild/bbs-3.23-bioc/R/bin/R CMD INSTALL SNAData StartedAt: 2025-11-06 10:56:28 -0500 (Thu, 06 Nov 2025) EndedAt: 2025-11-06 10:56:33 -0500 (Thu, 06 Nov 2025) EllapsedTime: 5.3 seconds RetCode: 0 Status: OK