Package: SNAData Version: 1.57.0 Command: /home/biocbuild/bbs-3.23-bioc/R/bin/R CMD build --keep-empty-dirs --no-resave-data SNAData StartedAt: 2025-11-06 11:42:43 -0500 (Thu, 06 Nov 2025) EndedAt: 2025-11-06 11:42:49 -0500 (Thu, 06 Nov 2025) EllapsedTime: 6.3 seconds RetCode: 0 Status: OK PackageFile: SNAData_1.57.0.tar.gz PackageFileSize: 135 KiB