Package: SNAData Version: 1.57.0 Maintainer: Denise Scholtens MaintainerEmail: dscholtens at northwestern.edu git_url: https://git.bioconductor.org/packages/SNAData git_branch: devel git_last_commit: e884b1c git_last_commit_date: 2025-10-29 09:30:34 -0500 (Wed, 29 Oct 2025)